BEGIN:VCALENDAR
VERSION:2.0
PRODID:-//LoRe Gin-Destillerie Austria - ECPv6.15.17.1//NONSGML v1.0//EN
CALSCALE:GREGORIAN
METHOD:PUBLISH
X-ORIGINAL-URL:https://lore-schnaps.at
X-WR-CALDESC:Veranstaltungen für LoRe Gin-Destillerie Austria
REFRESH-INTERVAL;VALUE=DURATION:PT1H
X-Robots-Tag:noindex
X-PUBLISHED-TTL:PT1H
BEGIN:VTIMEZONE
TZID:Europe/Vienna
BEGIN:DAYLIGHT
TZOFFSETFROM:+0100
TZOFFSETTO:+0200
TZNAME:CEST
DTSTART:20250330T010000
END:DAYLIGHT
BEGIN:STANDARD
TZOFFSETFROM:+0200
TZOFFSETTO:+0100
TZNAME:CET
DTSTART:20251026T010000
END:STANDARD
BEGIN:DAYLIGHT
TZOFFSETFROM:+0100
TZOFFSETTO:+0200
TZNAME:CEST
DTSTART:20260329T010000
END:DAYLIGHT
BEGIN:STANDARD
TZOFFSETFROM:+0200
TZOFFSETTO:+0100
TZNAME:CET
DTSTART:20261025T010000
END:STANDARD
BEGIN:DAYLIGHT
TZOFFSETFROM:+0100
TZOFFSETTO:+0200
TZNAME:CEST
DTSTART:20270328T010000
END:DAYLIGHT
BEGIN:STANDARD
TZOFFSETFROM:+0200
TZOFFSETTO:+0100
TZNAME:CET
DTSTART:20271031T010000
END:STANDARD
END:VTIMEZONE
BEGIN:VEVENT
DTSTART;TZID=Europe/Vienna:20261205T093000
DTEND;TZID=Europe/Vienna:20261205T130000
DTSTAMP:20260423T104635
CREATED:20260109T102359Z
LAST-MODIFIED:20260109T102359Z
UID:705-1796463000-1796475600@lore-schnaps.at
SUMMARY:Gin-Tonic-Brunch by LoRe
DESCRIPTION:Gin-Tonic-Brunch by LoRe\nIn der Gin-Destillerie LoRe in Waxenberg\, Oberösterreich findet monatlich der beliebte Gin-Tonic-Brunch by LoRe statt. \nKomm vorbei und gönn dir ein ausgiebiges Brunch-Buffet plus fünf verschiedene Gin-Tonic-Kreationen. \nDirekt zum Auftakt (9:30 Uhr) ein Aperitif — dann erklärt Regina Priglinger-Simader (Schnapsbrennerin & Betriebsleiterin) coole Gin-Fakten und gibt Einblicke in den Betrieb. Unser Brunch schmeißt klassische Frühstücksklassiker mit regionalen Fruchtsäften\, mega Mehlspeisen und einem warmen Mittagssnack (z. B. Spaghetti) zusammen. \nIm Preis inklusive: 1 Kaffee oder Tee.\nOfficial End: 12:30 Uhr\, Buffet bleibt bis 13:00 Uhr offen.\nPreis: 28\,00 € pro Person. \nEinzelanmeldungen möglich. Perfekt geeignet für Kleingruppen! \nAnmeldung:\nE-Mail: info@lore-schnaps.at\nWhatsApp: 0650/714 93 06\nWas für eine Geschenkidee!\nVerbringe Zeit mit deinen Liebsten beim Gin-Tonic-Brunch\n>>> Brunch-Gutschein bestellen <<< \nDu möchtest mit einer größeren Gruppe zu uns kommen und einen individuellen Termin vereinbaren?\nSieh dir unsere >>> Verkostungsangebote <<< an!
URL:https://lore-schnaps.at/veranstaltung/gin-tonic-brunch-by-lore-12/
LOCATION:LoRe Cocktailmanufaktur | Destillerie\, Höf 29/2\, Waxenberg\, Oberösterreich\, 4182\, Austria
ATTACH;FMTTYPE=image/jpeg:https://lore-schnaps.at/wp-content/uploads/2025/12/1000181164-e1767793502961.jpg
ORGANIZER;CN="LoRe Cocktailmanufaktur | Destillerie":MAILTO:info@lore-schnaps.at
END:VEVENT
END:VCALENDAR